Package: ibh Version: 1.55.0 Command: /home/biocbuild/R/R/bin/R CMD build --keep-empty-dirs --no-resave-data ibh StartedAt: 2025-01-28 23:40:43 -0000 (Tue, 28 Jan 2025) EndedAt: 2025-01-28 23:40:50 -0000 (Tue, 28 Jan 2025) EllapsedTime: 7.0 seconds RetCode: 0 Status: OK PackageFile: ibh_1.55.0.tar.gz PackageFileSize: 127.7 KiB