Package: ibh Version: 1.55.0 Command: /home/biocbuild/R/R/bin/R CMD check --install=check:ibh.install-out.txt --library=/home/biocbuild/R/R/site-library --no-vignettes --timings ibh_1.55.0.tar.gz StartedAt: 2025-01-28 11:34:51 -0000 (Tue, 28 Jan 2025) EndedAt: 2025-01-28 11:35:08 -0000 (Tue, 28 Jan 2025) EllapsedTime: 17.0 seconds RetCode: 0 Status: OK CheckDir: ibh.Rcheck Warnings: 0