Package: ibh Version: 1.55.0 Command: /home/biocbuild/R/R/bin/R CMD INSTALL ibh StartedAt: 2025-01-29 19:32:14 -0000 (Wed, 29 Jan 2025) EndedAt: 2025-01-29 19:32:35 -0000 (Wed, 29 Jan 2025) EllapsedTime: 20.9 seconds RetCode: 0 Status: OK