Package: ibh Version: 1.55.0 Command: rm -rf ibh.buildbin-libdir && mkdir ibh.buildbin-libdir && /Users/biocbuild/BBS/utils/build-universal.sh ibh_1.55.0.tar.gz /Library/Frameworks/R.framework/Resources/bin/R ibh.buildbin-libdir StartedAt: 2025-02-04 00:38:50 -0500 (Tue, 04 Feb 2025) EndedAt: 2025-02-04 00:38:56 -0500 (Tue, 04 Feb 2025) EllapsedTime: 5.8 seconds RetCode: 0 Status: OK PackageFile: ibh_1.55.0.tgz PackageFileSize: 156.7 KiB