Package: ibh Version: 1.55.0 Command: /Library/Frameworks/R.framework/Resources/bin/R CMD build --keep-empty-dirs --no-resave-data ibh StartedAt: 2025-02-09 17:07:16 -0500 (Sun, 09 Feb 2025) EndedAt: 2025-02-09 17:07:31 -0500 (Sun, 09 Feb 2025) EllapsedTime: 15.2 seconds RetCode: 0 Status: OK PackageFile: ibh_1.55.0.tar.gz PackageFileSize: 127.5 KiB