Package: ibh Version: 1.55.0 Command: /home/biocbuild/bbs-3.21-bioc/R/bin/R CMD build --keep-empty-dirs --no-resave-data ibh StartedAt: 2025-02-03 17:49:50 -0500 (Mon, 03 Feb 2025) EndedAt: 2025-02-03 17:49:56 -0500 (Mon, 03 Feb 2025) EllapsedTime: 6.0 seconds RetCode: 0 Status: OK PackageFile: ibh_1.55.0.tar.gz PackageFileSize: 127.3 KiB