Package: ibh Version: 1.55.0 Command: /home/biocbuild/bbs-3.21-bioc/R/bin/R CMD check --install=check:ibh.install-out.txt --library=/home/biocbuild/bbs-3.21-bioc/R/site-library --timings ibh_1.55.0.tar.gz StartedAt: 2025-02-03 23:22:07 -0500 (Mon, 03 Feb 2025) EndedAt: 2025-02-03 23:22:28 -0500 (Mon, 03 Feb 2025) EllapsedTime: 21.0 seconds RetCode: 0 Status: OK CheckDir: ibh.Rcheck Warnings: 0