Package: ibh Version: 1.55.0 Command: /home/biocbuild/bbs-3.21-bioc/R/bin/R CMD INSTALL ibh StartedAt: 2025-02-03 15:11:49 -0500 (Mon, 03 Feb 2025) EndedAt: 2025-02-03 15:12:00 -0500 (Mon, 03 Feb 2025) EllapsedTime: 10.8 seconds RetCode: 0 Status: OK