Package: ibh Version: 1.55.0 Command: rm -rf ibh.buildbin-libdir && mkdir ibh.buildbin-libdir && E:\biocbuild\bbs-3.21-bioc\R\bin\R.exe CMD INSTALL --build --library=ibh.buildbin-libdir ibh_1.55.0.tar.gz StartedAt: 2025-02-10 07:56:44 -0500 (Mon, 10 Feb 2025) EndedAt: 2025-02-10 07:56:51 -0500 (Mon, 10 Feb 2025) EllapsedTime: 7.0 seconds RetCode: 0 Status: OK PackageFile: ibh_1.55.0.zip PackageFileSize: 159.9 KiB