Package: ibh Version: 1.55.0 Command: chmod a+r ibh -R && E:\biocbuild\bbs-3.21-bioc\R\bin\R.exe CMD build --keep-empty-dirs --no-resave-data ibh StartedAt: 2025-02-03 19:30:11 -0500 (Mon, 03 Feb 2025) EndedAt: 2025-02-03 19:30:22 -0500 (Mon, 03 Feb 2025) EllapsedTime: 10.9 seconds RetCode: 0 Status: OK PackageFile: ibh_1.55.0.tar.gz PackageFileSize: 128.1 KiB