Package: ibh Version: 1.55.0 Command: E:\biocbuild\bbs-3.21-bioc\R\bin\R.exe CMD check --no-multiarch --install=check:ibh.install-out.txt --library=E:\biocbuild\bbs-3.21-bioc\R\library --no-vignettes --timings ibh_1.55.0.tar.gz StartedAt: 2025-02-10 02:01:59 -0500 (Mon, 10 Feb 2025) EndedAt: 2025-02-10 02:02:30 -0500 (Mon, 10 Feb 2025) EllapsedTime: 30.6 seconds RetCode: 0 Status: OK CheckDir: ibh.Rcheck Warnings: 0