Package: icetea Version: 1.25.0 Command: rm -rf icetea.buildbin-libdir && mkdir icetea.buildbin-libdir && /Users/biocbuild/BBS/utils/build-universal.sh icetea_1.25.0.tar.gz /Library/Frameworks/R.framework/Resources/bin/R icetea.buildbin-libdir StartedAt: 2025-02-09 22:17:43 -0500 (Sun, 09 Feb 2025) EndedAt: 2025-02-09 22:18:06 -0500 (Sun, 09 Feb 2025) EllapsedTime: 22.5 seconds RetCode: 0 Status: OK PackageFile: icetea_1.25.0.tgz PackageFileSize: 1.114 MiB