Package: icetea Version: 1.25.0 Command: /Library/Frameworks/R.framework/Resources/bin/R CMD build --keep-empty-dirs --no-resave-data icetea StartedAt: 2025-02-09 16:38:59 -0500 (Sun, 09 Feb 2025) EndedAt: 2025-02-09 16:39:39 -0500 (Sun, 09 Feb 2025) EllapsedTime: 40.4 seconds RetCode: 0 Status: OK PackageFile: icetea_1.25.0.tar.gz PackageFileSize: 796 KiB