Package: icetea Version: 1.25.0 Command: /Library/Frameworks/R.framework/Resources/bin/R CMD INSTALL icetea StartedAt: 2025-02-09 15:12:54 -0500 (Sun, 09 Feb 2025) EndedAt: 2025-02-09 15:13:14 -0500 (Sun, 09 Feb 2025) EllapsedTime: 20.3 seconds RetCode: 0 Status: OK