Package: icetea Version: 1.25.0 Command: /Library/Frameworks/R.framework/Resources/bin/R CMD build --keep-empty-dirs --no-resave-data icetea StartedAt: 2025-02-12 17:04:33 -0500 (Wed, 12 Feb 2025) EndedAt: 2025-02-12 17:06:36 -0500 (Wed, 12 Feb 2025) EllapsedTime: 122.6 seconds RetCode: 0 Status: OK PackageFile: icetea_1.25.0.tar.gz PackageFileSize: 795.3 KiB