Package: icetea Version: 1.25.0 Command: /home/biocbuild/bbs-3.21-bioc/R/bin/R CMD INSTALL icetea StartedAt: 2025-02-12 15:51:07 -0500 (Wed, 12 Feb 2025) EndedAt: 2025-02-12 15:51:59 -0500 (Wed, 12 Feb 2025) EllapsedTime: 52.0 seconds RetCode: 0 Status: OK