Package: icetea Version: 1.25.0 Command: rm -rf icetea.buildbin-libdir && mkdir icetea.buildbin-libdir && E:\biocbuild\bbs-3.21-bioc\R\bin\R.exe CMD INSTALL --build --library=icetea.buildbin-libdir icetea_1.25.0.tar.gz StartedAt: 2025-02-13 08:07:58 -0500 (Thu, 13 Feb 2025) EndedAt: 2025-02-13 08:09:31 -0500 (Thu, 13 Feb 2025) EllapsedTime: 93.3 seconds RetCode: 0 Status: OK PackageFile: icetea_1.25.0.zip PackageFileSize: 1.013 MiB