Package: icetea Version: 1.25.0 Command: set _R_CHECK_FORCE_SUGGESTS_=0&& E:\biocbuild\bbs-3.21-bioc\R\bin\R.exe CMD check --no-multiarch --install=check:icetea.install-out.txt --library=E:\biocbuild\bbs-3.21-bioc\R\library --no-vignettes --timings icetea_1.25.0.tar.gz StartedAt: 2025-02-13 02:13:14 -0500 (Thu, 13 Feb 2025) EndedAt: 2025-02-13 02:21:57 -0500 (Thu, 13 Feb 2025) EllapsedTime: 523.1 seconds RetCode: 0 Status: WARNINGS CheckDir: icetea.Rcheck Warnings: 1