Package: idiogram Version: 1.83.0 Command: /home/biocbuild/R/R/bin/R CMD build --keep-empty-dirs --no-resave-data idiogram StartedAt: 2025-01-28 23:41:50 -0000 (Tue, 28 Jan 2025) EndedAt: 2025-01-28 23:42:21 -0000 (Tue, 28 Jan 2025) EllapsedTime: 31.0 seconds RetCode: 0 Status: OK PackageFile: idiogram_1.83.0.tar.gz PackageFileSize: 1.791 MiB