Package: idiogram Version: 1.83.0 Command: /Library/Frameworks/R.framework/Resources/bin/R CMD check --install=check:idiogram.install-out.txt --library=/Library/Frameworks/R.framework/Resources/library --no-vignettes --timings idiogram_1.83.0.tar.gz StartedAt: 2025-02-09 21:21:50 -0500 (Sun, 09 Feb 2025) EndedAt: 2025-02-09 21:23:50 -0500 (Sun, 09 Feb 2025) EllapsedTime: 120.0 seconds RetCode: 0 Status: OK CheckDir: idiogram.Rcheck Warnings: 0