Package: idiogram Version: 1.83.0 Command: /Library/Frameworks/R.framework/Resources/bin/R CMD INSTALL idiogram StartedAt: 2025-02-09 15:17:12 -0500 (Sun, 09 Feb 2025) EndedAt: 2025-02-09 15:17:34 -0500 (Sun, 09 Feb 2025) EllapsedTime: 22.2 seconds RetCode: 0 Status: OK