Package: idiogram Version: 1.83.0 Command: /home/biocbuild/bbs-3.21-bioc/R/bin/R CMD check --install=check:idiogram.install-out.txt --library=/home/biocbuild/bbs-3.21-bioc/R/site-library --timings idiogram_1.83.0.tar.gz StartedAt: 2025-02-09 23:16:31 -0500 (Sun, 09 Feb 2025) EndedAt: 2025-02-09 23:18:17 -0500 (Sun, 09 Feb 2025) EllapsedTime: 106.1 seconds RetCode: 0 Status: OK CheckDir: idiogram.Rcheck Warnings: 0