Package: idiogram Version: 1.83.0 Command: rm -rf idiogram.buildbin-libdir && mkdir idiogram.buildbin-libdir && E:\biocbuild\bbs-3.21-bioc\R\bin\R.exe CMD INSTALL --build --library=idiogram.buildbin-libdir idiogram_1.83.0.tar.gz StartedAt: 2025-02-10 07:57:04 -0500 (Mon, 10 Feb 2025) EndedAt: 2025-02-10 07:57:39 -0500 (Mon, 10 Feb 2025) EllapsedTime: 34.9 seconds RetCode: 0 Status: OK PackageFile: idiogram_1.83.0.zip PackageFileSize: 3.642 MiB