Package: idiogram Version: 1.83.0 Command: chmod a+r idiogram -R && E:\biocbuild\bbs-3.21-bioc\R\bin\R.exe CMD build --keep-empty-dirs --no-resave-data idiogram StartedAt: 2025-02-09 19:19:08 -0500 (Sun, 09 Feb 2025) EndedAt: 2025-02-09 19:19:43 -0500 (Sun, 09 Feb 2025) EllapsedTime: 34.5 seconds RetCode: 0 Status: OK PackageFile: idiogram_1.83.0.tar.gz PackageFileSize: 1.712 MiB