Package: idiogram Version: 1.83.0 Command: E:\biocbuild\bbs-3.21-bioc\R\bin\R.exe CMD check --no-multiarch --install=check:idiogram.install-out.txt --library=E:\biocbuild\bbs-3.21-bioc\R\library --no-vignettes --timings idiogram_1.83.0.tar.gz StartedAt: 2025-02-10 02:03:30 -0500 (Mon, 10 Feb 2025) EndedAt: 2025-02-10 02:05:38 -0500 (Mon, 10 Feb 2025) EllapsedTime: 127.8 seconds RetCode: 0 Status: OK CheckDir: idiogram.Rcheck Warnings: 0