Package: idpr Version: 1.17.0 Command: /home/biocbuild/R/R/bin/R CMD build --keep-empty-dirs --no-resave-data idpr StartedAt: 2025-01-28 23:41:57 -0000 (Tue, 28 Jan 2025) EndedAt: 2025-01-28 23:43:27 -0000 (Tue, 28 Jan 2025) EllapsedTime: 90.0 seconds RetCode: 0 Status: OK PackageFile: idpr_1.17.0.tar.gz PackageFileSize: 1.636 MiB