Package: idpr Version: 1.17.0 Command: rm -rf idpr.buildbin-libdir && mkdir idpr.buildbin-libdir && /Users/biocbuild/BBS/utils/build-universal.sh idpr_1.17.0.tar.gz /Library/Frameworks/R.framework/Resources/bin/R idpr.buildbin-libdir StartedAt: 2025-02-10 00:58:24 -0500 (Mon, 10 Feb 2025) EndedAt: 2025-02-10 00:58:35 -0500 (Mon, 10 Feb 2025) EllapsedTime: 11.7 seconds RetCode: 0 Status: OK PackageFile: idpr_1.17.0.tgz PackageFileSize: 3.7 MiB