Package: idpr Version: 1.17.0 Command: /Library/Frameworks/R.framework/Resources/bin/R CMD build --keep-empty-dirs --no-resave-data idpr StartedAt: 2025-02-09 17:08:04 -0500 (Sun, 09 Feb 2025) EndedAt: 2025-02-09 17:09:24 -0500 (Sun, 09 Feb 2025) EllapsedTime: 80.0 seconds RetCode: 0 Status: OK PackageFile: idpr_1.17.0.tar.gz PackageFileSize: 3.611 MiB