Package: idpr Version: 1.17.0 Command: /Library/Frameworks/R.framework/Resources/bin/R CMD check --install=check:idpr.install-out.txt --library=/Library/Frameworks/R.framework/Resources/library --no-vignettes --timings idpr_1.17.0.tar.gz StartedAt: 2025-02-12 21:09:32 -0500 (Wed, 12 Feb 2025) EndedAt: 2025-02-12 21:10:30 -0500 (Wed, 12 Feb 2025) EllapsedTime: 57.9 seconds RetCode: 0 Status: OK CheckDir: idpr.Rcheck Warnings: 0