Package: idpr Version: 1.17.0 Command: /Library/Frameworks/R.framework/Resources/bin/R CMD INSTALL idpr StartedAt: 2025-02-12 15:11:09 -0500 (Wed, 12 Feb 2025) EndedAt: 2025-02-12 15:11:21 -0500 (Wed, 12 Feb 2025) EllapsedTime: 12.9 seconds RetCode: 0 Status: OK