Package: idpr Version: 1.17.0 Command: chmod a+r idpr -R && E:\biocbuild\bbs-3.21-bioc\R\bin\R.exe CMD build --keep-empty-dirs --no-resave-data idpr StartedAt: 2025-02-12 19:24:18 -0500 (Wed, 12 Feb 2025) EndedAt: 2025-02-12 19:25:35 -0500 (Wed, 12 Feb 2025) EllapsedTime: 76.7 seconds RetCode: 0 Status: OK PackageFile: idpr_1.17.0.tar.gz PackageFileSize: 1.026 MiB