Package: idpr Version: 1.17.0 Command: E:\biocbuild\bbs-3.21-bioc\R\bin\R.exe CMD check --no-multiarch --install=check:idpr.install-out.txt --library=E:\biocbuild\bbs-3.21-bioc\R\library --no-vignettes --timings idpr_1.17.0.tar.gz StartedAt: 2025-02-10 02:03:33 -0500 (Mon, 10 Feb 2025) EndedAt: 2025-02-10 02:04:38 -0500 (Mon, 10 Feb 2025) EllapsedTime: 64.4 seconds RetCode: 0 Status: OK CheckDir: idpr.Rcheck Warnings: 0