Package: idr2d Version: 1.21.0 Command: rm -rf idr2d.buildbin-libdir && mkdir idr2d.buildbin-libdir && /Users/biocbuild/BBS/utils/build-universal.sh idr2d_1.21.0.tar.gz /Library/Frameworks/R.framework/Resources/bin/R idr2d.buildbin-libdir StartedAt: 2025-02-04 22:19:38 -0500 (Tue, 04 Feb 2025) EndedAt: 2025-02-04 22:19:45 -0500 (Tue, 04 Feb 2025) EllapsedTime: 7.2 seconds RetCode: 0 Status: OK PackageFile: idr2d_1.21.0.tgz PackageFileSize: 1.777 MiB