Package: idr2d Version: 1.21.0 Command: /Library/Frameworks/R.framework/Resources/bin/R CMD build --keep-empty-dirs --no-resave-data idr2d StartedAt: 2025-02-04 16:40:00 -0500 (Tue, 04 Feb 2025) EndedAt: 2025-02-04 16:40:14 -0500 (Tue, 04 Feb 2025) EllapsedTime: 14.1 seconds RetCode: 0 Status: OK PackageFile: idr2d_1.21.0.tar.gz PackageFileSize: 1.645 MiB