Package: idr2d Version: 1.21.0 Command: /home/biocbuild/R/R/bin/R CMD check --install=check:idr2d.install-out.txt --library=/home/biocbuild/R/R/site-library --no-vignettes --timings idr2d_1.21.0.tar.gz StartedAt: 2025-01-28 11:36:43 -0000 (Tue, 28 Jan 2025) EndedAt: 2025-01-28 11:40:57 -0000 (Tue, 28 Jan 2025) EllapsedTime: 254.3 seconds RetCode: 0 Status: OK CheckDir: idr2d.Rcheck Warnings: 0