Package: idr2d Version: 1.21.0 Command: /Library/Frameworks/R.framework/Resources/bin/R CMD build --keep-empty-dirs --no-resave-data idr2d StartedAt: 2025-02-12 17:05:20 -0500 (Wed, 12 Feb 2025) EndedAt: 2025-02-12 17:06:03 -0500 (Wed, 12 Feb 2025) EllapsedTime: 42.5 seconds RetCode: 0 Status: OK PackageFile: idr2d_1.21.0.tar.gz PackageFileSize: 1.642 MiB