Package: idr2d Version: 1.21.0 Command: /Library/Frameworks/R.framework/Resources/bin/R CMD check --install=check:idr2d.install-out.txt --library=/Library/Frameworks/R.framework/Resources/library --no-vignettes --timings idr2d_1.21.0.tar.gz StartedAt: 2025-02-09 21:22:00 -0500 (Sun, 09 Feb 2025) EndedAt: 2025-02-09 21:25:33 -0500 (Sun, 09 Feb 2025) EllapsedTime: 212.9 seconds RetCode: 0 Status: OK CheckDir: idr2d.Rcheck Warnings: 0