Package: idr2d Version: 1.21.0 Command: /home/biocbuild/bbs-3.21-bioc/R/bin/R CMD build --keep-empty-dirs --no-resave-data idr2d StartedAt: 2025-02-09 17:42:32 -0500 (Sun, 09 Feb 2025) EndedAt: 2025-02-09 17:43:04 -0500 (Sun, 09 Feb 2025) EllapsedTime: 32.0 seconds RetCode: 0 Status: OK PackageFile: idr2d_1.21.0.tar.gz PackageFileSize: 1.499 MiB