Package: idr2d Version: 1.21.0 Command: /home/biocbuild/bbs-3.21-bioc/R/bin/R CMD check --install=check:idr2d.install-out.txt --library=/home/biocbuild/bbs-3.21-bioc/R/site-library --timings idr2d_1.21.0.tar.gz StartedAt: 2025-02-09 23:17:02 -0500 (Sun, 09 Feb 2025) EndedAt: 2025-02-09 23:20:28 -0500 (Sun, 09 Feb 2025) EllapsedTime: 206.3 seconds RetCode: 0 Status: OK CheckDir: idr2d.Rcheck Warnings: 0