Package: idr2d Version: 1.21.0 Command: chmod a+r idr2d -R && E:\biocbuild\bbs-3.21-bioc\R\bin\R.exe CMD build --keep-empty-dirs --no-resave-data idr2d StartedAt: 2025-02-12 19:24:21 -0500 (Wed, 12 Feb 2025) EndedAt: 2025-02-12 19:25:01 -0500 (Wed, 12 Feb 2025) EllapsedTime: 40.3 seconds RetCode: 0 Status: OK PackageFile: idr2d_1.21.0.tar.gz PackageFileSize: 1.217 MiB