Package: idr2d Version: 1.21.0 Command: E:\biocbuild\bbs-3.21-bioc\R\bin\R.exe CMD INSTALL idr2d StartedAt: 2025-02-12 15:40:24 -0500 (Wed, 12 Feb 2025) EndedAt: 2025-02-12 15:40:52 -0500 (Wed, 12 Feb 2025) EllapsedTime: 27.0 seconds RetCode: 0 Status: OK