Package: igvR Version: 1.27.0 Command: /home/biocbuild/R/R/bin/R CMD check --install=check:igvR.install-out.txt --library=/home/biocbuild/R/R/site-library --no-vignettes --timings igvR_1.27.0.tar.gz StartedAt: 2025-01-28 11:36:52 -0000 (Tue, 28 Jan 2025) EndedAt: 2025-01-28 11:42:46 -0000 (Tue, 28 Jan 2025) EllapsedTime: 354.3 seconds RetCode: 0 Status: OK CheckDir: igvR.Rcheck Warnings: 0