Package: igvR Version: 1.27.0 Command: /Library/Frameworks/R.framework/Resources/bin/R CMD build --keep-empty-dirs --no-resave-data igvR StartedAt: 2025-02-09 17:08:20 -0500 (Sun, 09 Feb 2025) EndedAt: 2025-02-09 17:09:31 -0500 (Sun, 09 Feb 2025) EllapsedTime: 70.9 seconds RetCode: 0 Status: OK PackageFile: igvR_1.27.0.tar.gz PackageFileSize: 8.592 MiB