Package: igvR Version: 1.27.0 Command: /Library/Frameworks/R.framework/Resources/bin/R CMD INSTALL igvR StartedAt: 2025-02-09 15:20:58 -0500 (Sun, 09 Feb 2025) EndedAt: 2025-02-09 15:21:53 -0500 (Sun, 09 Feb 2025) EllapsedTime: 55.2 seconds RetCode: 0 Status: OK