Package: igvR Version: 1.27.0 Command: /home/biocbuild/bbs-3.21-bioc/R/bin/R CMD build --keep-empty-dirs --no-resave-data igvR StartedAt: 2025-02-09 17:43:04 -0500 (Sun, 09 Feb 2025) EndedAt: 2025-02-09 17:43:54 -0500 (Sun, 09 Feb 2025) EllapsedTime: 50.1 seconds RetCode: 0 Status: OK PackageFile: igvR_1.27.0.tar.gz PackageFileSize: 8.593 MiB