Package: igvR Version: 1.27.0 Command: /home/biocbuild/bbs-3.21-bioc/R/bin/R CMD INSTALL igvR StartedAt: 2025-02-09 15:59:41 -0500 (Sun, 09 Feb 2025) EndedAt: 2025-02-09 16:00:21 -0500 (Sun, 09 Feb 2025) EllapsedTime: 39.5 seconds RetCode: 0 Status: OK