Package: igvR Version: 1.27.0 Command: chmod a+r igvR -R && E:\biocbuild\bbs-3.21-bioc\R\bin\R.exe CMD build --keep-empty-dirs --no-resave-data igvR StartedAt: 2025-02-09 19:20:02 -0500 (Sun, 09 Feb 2025) EndedAt: 2025-02-09 19:23:12 -0500 (Sun, 09 Feb 2025) EllapsedTime: 190.0 seconds RetCode: 0 Status: OK PackageFile: igvR_1.27.0.tar.gz PackageFileSize: 8.593 MiB