Package: igvShiny Version: 1.3.0 Command: /home/biocbuild/bbs-3.21-bioc/R/bin/R CMD build --keep-empty-dirs --no-resave-data igvShiny StartedAt: 2025-02-09 17:43:07 -0500 (Sun, 09 Feb 2025) EndedAt: 2025-02-09 17:43:27 -0500 (Sun, 09 Feb 2025) EllapsedTime: 20.0 seconds RetCode: 0 Status: OK PackageFile: igvShiny_1.3.0.tar.gz PackageFileSize: 4.22 MiB