Package: illuminaio Version: 0.49.0 Command: /home/biocbuild/R/R/bin/R CMD build --keep-empty-dirs --no-resave-data illuminaio StartedAt: 2025-01-28 23:42:51 -0000 (Tue, 28 Jan 2025) EndedAt: 2025-01-28 23:43:04 -0000 (Tue, 28 Jan 2025) EllapsedTime: 13.0 seconds RetCode: 0 Status: OK PackageFile: illuminaio_0.49.0.tar.gz PackageFileSize: 374.1 KiB