Package: illuminaio Version: 0.49.0 Command: /home/biocbuild/R/R/bin/R CMD INSTALL illuminaio StartedAt: 2025-01-29 19:36:15 -0000 (Wed, 29 Jan 2025) EndedAt: 2025-01-29 19:36:29 -0000 (Wed, 29 Jan 2025) EllapsedTime: 14.0 seconds RetCode: 0 Status: OK